BEGIN:VCALENDAR
VERSION:2.0
PRODID:-//ChamberMaster//Event Calendar 2.0//EN
METHOD:PUBLISH
X-PUBLISHED-TTL:P3D
REFRESH-INTERVAL:P3D
CALSCALE:GREGORIAN
BEGIN:VEVENT
DTSTART:20250304T230000Z
DTEND:20250305T010000Z
X-MICROSOFT-CDO-ALLDAYEVENT:FALSE
SUMMARY:BBMC Legislative Reception
DESCRIPTION:The Big Bend Minority Chamber of Commerce (BBMC) invites you to a Welcoming Reception in honor of the members of the Florida Legislature from around the state of Florida on Tuesday\, March 4\, 2025. This event\, themed "Building Bridges for a Brighter Future\," offers a great opportunity to network and kick off the Legislative Session. Attire is business casual.
X-ALT-DESC;FMTTYPE=text/html:<div font-size:="" line-height:="" segoe="" style="font-family: ">\n<p><big><span style="font-size:24px\;"><span style="font-family:tahoma\;">The Big Bend Minority Chamber of Commerce (BBMC) invites you to a Welcoming Reception in honor of the members of the Florida Legislature from around the state of Florida on Tuesday\, March 4\, 2025. This event\, themed &quot\;Building Bridges for a Brighter Future\,&quot\; offers a great opportunity to network and kick off the Legislative Session. Attire is business casual.</span></span></big></p>\n</div>\n
LOCATION:Florida Education Association 213 S. Adams Street\, Tallahassee\, FL
UID:e.3363.1096
SEQUENCE:3
DTSTAMP:20260422T032100Z
URL:http://mybbmcfl.chambermaster.com/events/details/bbmc-legislative-reception-1096
END:VEVENT

END:VCALENDAR
